BEGIN:VCALENDAR
VERSION:2.0
PRODID:-//The Big Roast - ECPv4.8.2//NONSGML v1.0//EN
CALSCALE:GREGORIAN
METHOD:PUBLISH
X-WR-CALNAME:The Big Roast
X-ORIGINAL-URL:https://thebigroast.com.au
X-WR-CALDESC:Events for The Big Roast
BEGIN:VEVENT
DTSTART;TZID=UTC+10:20170730T130000
DTEND;TZID=UTC+10:20170730T160000
DTSTAMP:20210226T090629
CREATED:20170522T203417Z
LAST-MODIFIED:20170612T071636Z
UID:840-1501419600-1501430400@thebigroast.com.au
SUMMARY:Rob Dolan Wines
DESCRIPTION:\nCome and enjoy a sensational 2-course Sunday roast at Rob Dolan Wines in Warrandyte on Sunday July 30th\, knowing that $20 from your ticket will go to help scientists find a much needed cure for CF.  Book your tickets here. \nThe gorgeous barrel room can hold up to 150 people\, so call your friends and family and put a table together. You are guaranteed a superb lunch out and your ticket includes a 2-course lunch prepared by The Farm Yarra Valley and a glass of Rob Dolan wine\, brilliant live music PLUS there will be truly amazing raffle prizes to be won. \nTickets are $65 for adults and $35 for kids.  Grab your tickets now before they sell out. \n\n\n
URL:https://thebigroast.com.au/roast/rob-dolan-wines/
LOCATION:The Farm Yarra Valley\, 21–23 Delaneys Road\, Warrandyte South\, VIC\, 3134\, Australia
CATEGORIES:Roasts
ATTACH;FMTTYPE=image/png:https://thebigroast.com.au/wp-content/uploads/2017/05/Screen-Shot-2017-06-07-at-4.22.31-pm-e1496816658744.png
ORGANIZER;CN="Kristy%20Farrell":MAILTO:kristy@robdolanwines.com.au
END:VEVENT
END:VCALENDAR